BEGIN:VCALENDAR
VERSION:2.0
PRODID:-//Good Food Council of Lewiston Auburn - ECPv6.15.20//NONSGML v1.0//EN
CALSCALE:GREGORIAN
METHOD:PUBLISH
X-WR-CALNAME:Good Food Council of Lewiston Auburn
X-ORIGINAL-URL:https://goodfoodcouncil.org
X-WR-CALDESC:Events for Good Food Council of Lewiston Auburn
REFRESH-INTERVAL;VALUE=DURATION:PT1H
X-Robots-Tag:noindex
X-PUBLISHED-TTL:PT1H
BEGIN:VTIMEZONE
TZID:America/New_York
BEGIN:DAYLIGHT
TZOFFSETFROM:-0500
TZOFFSETTO:-0400
TZNAME:EDT
DTSTART:20200308T070000
END:DAYLIGHT
BEGIN:STANDARD
TZOFFSETFROM:-0400
TZOFFSETTO:-0500
TZNAME:EST
DTSTART:20201101T060000
END:STANDARD
BEGIN:DAYLIGHT
TZOFFSETFROM:-0500
TZOFFSETTO:-0400
TZNAME:EDT
DTSTART:20210314T070000
END:DAYLIGHT
BEGIN:STANDARD
TZOFFSETFROM:-0400
TZOFFSETTO:-0500
TZNAME:EST
DTSTART:20211107T060000
END:STANDARD
BEGIN:DAYLIGHT
TZOFFSETFROM:-0500
TZOFFSETTO:-0400
TZNAME:EDT
DTSTART:20220313T070000
END:DAYLIGHT
BEGIN:STANDARD
TZOFFSETFROM:-0400
TZOFFSETTO:-0500
TZNAME:EST
DTSTART:20221106T060000
END:STANDARD
END:VTIMEZONE
BEGIN:VEVENT
DTSTART;TZID=America/New_York:20210803T193000
DTEND;TZID=America/New_York:20210803T200000
DTSTAMP:20260419T152359
CREATED:20210709T173406Z
LAST-MODIFIED:20210723T212610Z
UID:4039-1628019000-1628020800@goodfoodcouncil.org
SUMMARY:Food Charter Champion Awards Presentation
DESCRIPTION:Please join us and our presenting sponsor Bangor Savings Bank\, as we present the winners of the 2021 Food Charter Champion Awards on Tuesday\, August 3rd\, at 7:30pm\, outdoors at the Lewiston Middle School ball field. \nThe presentation will take place during the Summer Fun & Film Series movie\, activity\, and vendor night. This will be a free\, outdoor movie and activity series organized by the Lewiston Police Department. There will be family-friendly activities and vendors that start at 6pm\, and the movie (2019 Lion King) will start when it gets dark\, around 8pm. The Food Charter Champion Awards Presentation will begin around 7:30pm before the movie. \nThe Good Food Council of LA is excited to highlight the work and dedication of  5 winners to improving our local food system. Learn about the 2021 winners! \n			\n			\n				\n				\n				\n				\n			\n				\n				\n				\n				\n				\n				\n				\n				\n				\n				\n				All are welcome to join us for a fun evening under the stars – bringing your friends\, family\, as well as own blanket\, chairs\, and refreshments is encouraged. There will also be food for purchase from at least one food truck. \n\n6:00pm – Family Friendly Activities\n7:30pm – Awards Presentation\n8:00pm – Movie (Lion King\, 2019)
URL:https://goodfoodcouncil.org/event/2021-awards-presentation/
LOCATION:Lewiston Middle School\, 75 Central Ave\, Lewiston\, ME\, 04240\, United States
CATEGORIES:Community Event,GFCLA Event
ATTACH;FMTTYPE=image/png:https://goodfoodcouncil.org/wp-content/uploads/2021/07/Mail_GFCLA-Youth-Awards-simplified.png
END:VEVENT
END:VCALENDAR