BEGIN:VCALENDAR
VERSION:2.0
PRODID:-//Good Food Council of Lewiston Auburn - ECPv6.15.20//NONSGML v1.0//EN
CALSCALE:GREGORIAN
METHOD:PUBLISH
X-WR-CALNAME:Good Food Council of Lewiston Auburn
X-ORIGINAL-URL:https://goodfoodcouncil.org
X-WR-CALDESC:Events for Good Food Council of Lewiston Auburn
REFRESH-INTERVAL;VALUE=DURATION:PT1H
X-Robots-Tag:noindex
X-PUBLISHED-TTL:PT1H
BEGIN:VTIMEZONE
TZID:America/New_York
BEGIN:DAYLIGHT
TZOFFSETFROM:-0500
TZOFFSETTO:-0400
TZNAME:EDT
DTSTART:20130310T070000
END:DAYLIGHT
BEGIN:STANDARD
TZOFFSETFROM:-0400
TZOFFSETTO:-0500
TZNAME:EST
DTSTART:20131103T060000
END:STANDARD
BEGIN:DAYLIGHT
TZOFFSETFROM:-0500
TZOFFSETTO:-0400
TZNAME:EDT
DTSTART:20140309T070000
END:DAYLIGHT
BEGIN:STANDARD
TZOFFSETFROM:-0400
TZOFFSETTO:-0500
TZNAME:EST
DTSTART:20141102T060000
END:STANDARD
BEGIN:DAYLIGHT
TZOFFSETFROM:-0500
TZOFFSETTO:-0400
TZNAME:EDT
DTSTART:20150308T070000
END:DAYLIGHT
BEGIN:STANDARD
TZOFFSETFROM:-0400
TZOFFSETTO:-0500
TZNAME:EST
DTSTART:20151101T060000
END:STANDARD
END:VTIMEZONE
BEGIN:VEVENT
DTSTART;TZID=America/New_York:20140422T180000
DTEND;TZID=America/New_York:20140422T190000
DTSTAMP:20260419T215626
CREATED:20140323T113249Z
LAST-MODIFIED:20140323T113352Z
UID:698-1398189600-1398193200@goodfoodcouncil.org
SUMMARY:Grow A Garden Series: Making a Garden Plan
DESCRIPTION:This session offers resources and advice on how to make a garden plan with a focus on making the most of small spaces and preventing pests. \nGrow a Garden Series: Our Grow a Garden Series is for anyone wanting to grow a garden to increase your sources of healthy food.  You can attend one or all!  If you have the resources\, we ask for a suggested donation of $10 per class to support Nutrition Center programs\, or attend all three in the series for $25.  Don’t let that stop you from registering.  All sessions are at the St. Mary’s Nutrition Center (208 Bates St.\, Lewiston).
URL:https://goodfoodcouncil.org/event/grow-garden-series-making-garden-plan/
LOCATION:St. Mary’s Nutrition Center\, 208 Bates Street\, Lewiston\, ME\, 04240\, United States
ORGANIZER;CN="Bridgette Bartlett":MAILTO:NutritionCenter@stmarysmaine.com
GEO:44.0953322;-70.2132396
X-APPLE-STRUCTURED-LOCATION;VALUE=URI;X-ADDRESS=St. Mary’s Nutrition Center 208 Bates Street Lewiston ME 04240 United States;X-APPLE-RADIUS=500;X-TITLE=208 Bates Street:geo:-70.2132396,44.0953322
END:VEVENT
BEGIN:VEVENT
DTSTART;TZID=America/New_York:20140415T180000
DTEND;TZID=America/New_York:20140415T190000
DTSTAMP:20260419T215626
CREATED:20140323T112657Z
LAST-MODIFIED:20140323T115827Z
UID:697-1397584800-1397588400@goodfoodcouncil.org
SUMMARY:Grow a Garden Series: Starting your own Seedlings
DESCRIPTION:This session will address what you need and need to know to start your own seedlings for your garden.  Choose a veggie to plant and take home at the end of the workshop. \nGrow a Garden Series: Our Grow a Garden Series is for anyone wanting to grow a garden to increase your sources of healthy food.  You can attend one or all!  If you have the resources\, we ask for a suggested donation of $10 per class to support Nutrition Center programs\, or attend all three in the series for $25.  Don’t let that stop you from registering.  All sessions are at the St. Mary’s Nutrition Center (208 Bates St.\, Lewiston).
URL:https://goodfoodcouncil.org/event/grow-garden-series-starting-seedlings/
LOCATION:St. Mary’s Nutrition Center\, 208 Bates Street\, Lewiston\, ME\, 04240\, United States
ORGANIZER;CN="Bridgette Bartlett":MAILTO:NutritionCenter@stmarysmaine.com
GEO:44.0953322;-70.2132396
X-APPLE-STRUCTURED-LOCATION;VALUE=URI;X-ADDRESS=St. Mary’s Nutrition Center 208 Bates Street Lewiston ME 04240 United States;X-APPLE-RADIUS=500;X-TITLE=208 Bates Street:geo:-70.2132396,44.0953322
END:VEVENT
BEGIN:VEVENT
DTSTART;TZID=America/New_York:20140408T180000
DTEND;TZID=America/New_York:20140408T190000
DTSTAMP:20260419T215626
CREATED:20140323T111338Z
LAST-MODIFIED:20140323T113602Z
UID:693-1396980000-1396983600@goodfoodcouncil.org
SUMMARY:Grow a Garden Series: Starting a Garden
DESCRIPTION:This session covers things to consider when starting a garden\, consultation on what type of garden is good for you\, choosing a location\, how to test your soil\, and how to build up and improve your soil. \nGrow a Garden Series: Our Grow a Garden Series is for anyone wanting to grow a garden to increase your sources of healthy food.  You can attend one or all!  If you have the resources\, we ask for a suggested donation of $10 per class to support Nutrition Center programs\, or attend all three in the series for $25.  Don’t let that stop you from registering.  All sessions are at the St. Mary’s Nutrition Center (208 Bates St.\, Lewiston).
URL:https://goodfoodcouncil.org/event/grow-garden-series-starting-garden/
LOCATION:St. Mary’s Nutrition Center\, 208 Bates Street\, Lewiston\, ME\, 04240\, United States
ORGANIZER;CN="Bridgette Bartlett":MAILTO:NutritionCenter@stmarysmaine.com
GEO:44.0953322;-70.2132396
X-APPLE-STRUCTURED-LOCATION;VALUE=URI;X-ADDRESS=St. Mary’s Nutrition Center 208 Bates Street Lewiston ME 04240 United States;X-APPLE-RADIUS=500;X-TITLE=208 Bates Street:geo:-70.2132396,44.0953322
END:VEVENT
END:VCALENDAR