BEGIN:VCALENDAR
VERSION:2.0
PRODID:-//Good Food Council of Lewiston Auburn - ECPv6.15.20//NONSGML v1.0//EN
CALSCALE:GREGORIAN
METHOD:PUBLISH
X-ORIGINAL-URL:https://goodfoodcouncil.org
X-WR-CALDESC:Events for Good Food Council of Lewiston Auburn
REFRESH-INTERVAL;VALUE=DURATION:PT1H
X-Robots-Tag:noindex
X-PUBLISHED-TTL:PT1H
BEGIN:VTIMEZONE
TZID:America/New_York
BEGIN:DAYLIGHT
TZOFFSETFROM:-0500
TZOFFSETTO:-0400
TZNAME:EDT
DTSTART:20150308T070000
END:DAYLIGHT
BEGIN:STANDARD
TZOFFSETFROM:-0400
TZOFFSETTO:-0500
TZNAME:EST
DTSTART:20151101T060000
END:STANDARD
BEGIN:DAYLIGHT
TZOFFSETFROM:-0500
TZOFFSETTO:-0400
TZNAME:EDT
DTSTART:20160313T070000
END:DAYLIGHT
BEGIN:STANDARD
TZOFFSETFROM:-0400
TZOFFSETTO:-0500
TZNAME:EST
DTSTART:20161106T060000
END:STANDARD
BEGIN:DAYLIGHT
TZOFFSETFROM:-0500
TZOFFSETTO:-0400
TZNAME:EDT
DTSTART:20170312T070000
END:DAYLIGHT
BEGIN:STANDARD
TZOFFSETFROM:-0400
TZOFFSETTO:-0500
TZNAME:EST
DTSTART:20171105T060000
END:STANDARD
END:VTIMEZONE
BEGIN:VEVENT
DTSTART;TZID=America/New_York:20160606T100000
DTEND;TZID=America/New_York:20160606T130000
DTSTAMP:20260419T105235
CREATED:20160601T210244Z
LAST-MODIFIED:20160601T211345Z
UID:1680-1465207200-1465218000@goodfoodcouncil.org
SUMMARY:Lewiston Farmers' Market - Summer/Fall 2016
DESCRIPTION:EVERY SUNDAY 10AM-1PM from the end of May to mid-October\, 2016. (Hint: If it’s raining\, vendors often move into the parking garage on Lincoln & Main Streets)\n \nLive music\, fresh local produce\, homemade baked goods\, jams and jellys\, meats\, breads\, crafts and so much more… Credit\, Debit\, EBT (foodstamps)\, and WIC are always accepted! Fresh Food Champion and Market Rewards Program still going on! \nFollow the LFM on Facebook for frequent updates. \nPS – A great way to live the values of the #LAMaineFoodCharter is to become a regular patron of the LFM!
URL:https://goodfoodcouncil.org/event/lewiston-summer-farmers-market-2/2016-06-06/
LOCATION:Bates Mill 5\, Main St & Lincoln St\, Lewiston\, 04240\, United States
CATEGORIES:Community Event
GEO:44.0971441;-70.2210491
X-APPLE-STRUCTURED-LOCATION;VALUE=URI;X-ADDRESS=Bates Mill 5 Main St & Lincoln St Lewiston 04240 United States;X-APPLE-RADIUS=500;X-TITLE=Main St & Lincoln St:geo:-70.2210491,44.0971441
END:VEVENT
END:VCALENDAR