BEGIN:VCALENDAR
VERSION:2.0
PRODID:-//Good Food Council of Lewiston Auburn - ECPv6.15.20//NONSGML v1.0//EN
CALSCALE:GREGORIAN
METHOD:PUBLISH
X-ORIGINAL-URL:https://goodfoodcouncil.org
X-WR-CALDESC:Events for Good Food Council of Lewiston Auburn
REFRESH-INTERVAL;VALUE=DURATION:PT1H
X-Robots-Tag:noindex
X-PUBLISHED-TTL:PT1H
BEGIN:VTIMEZONE
TZID:America/New_York
BEGIN:DAYLIGHT
TZOFFSETFROM:-0500
TZOFFSETTO:-0400
TZNAME:EDT
DTSTART:20150308T070000
END:DAYLIGHT
BEGIN:STANDARD
TZOFFSETFROM:-0400
TZOFFSETTO:-0500
TZNAME:EST
DTSTART:20151101T060000
END:STANDARD
BEGIN:DAYLIGHT
TZOFFSETFROM:-0500
TZOFFSETTO:-0400
TZNAME:EDT
DTSTART:20160313T070000
END:DAYLIGHT
BEGIN:STANDARD
TZOFFSETFROM:-0400
TZOFFSETTO:-0500
TZNAME:EST
DTSTART:20161106T060000
END:STANDARD
BEGIN:DAYLIGHT
TZOFFSETFROM:-0500
TZOFFSETTO:-0400
TZNAME:EDT
DTSTART:20170312T070000
END:DAYLIGHT
BEGIN:STANDARD
TZOFFSETFROM:-0400
TZOFFSETTO:-0500
TZNAME:EST
DTSTART:20171105T060000
END:STANDARD
BEGIN:DAYLIGHT
TZOFFSETFROM:-0500
TZOFFSETTO:-0400
TZNAME:EDT
DTSTART:20180311T070000
END:DAYLIGHT
BEGIN:STANDARD
TZOFFSETFROM:-0400
TZOFFSETTO:-0500
TZNAME:EST
DTSTART:20181104T060000
END:STANDARD
BEGIN:DAYLIGHT
TZOFFSETFROM:-0500
TZOFFSETTO:-0400
TZNAME:EDT
DTSTART:20190310T070000
END:DAYLIGHT
BEGIN:STANDARD
TZOFFSETFROM:-0400
TZOFFSETTO:-0500
TZNAME:EST
DTSTART:20191103T060000
END:STANDARD
END:VTIMEZONE
BEGIN:VEVENT
DTSTART;TZID=America/New_York:20181203T080000
DTEND;TZID=America/New_York:20181203T160000
DTSTAMP:20260420T204816
CREATED:20180914T181106Z
LAST-MODIFIED:20180917T020222Z
UID:2178-1543824000-1543852800@goodfoodcouncil.org
SUMMARY:4th Annual Farmland Access & Transfer Conference
DESCRIPTION:For farm seekers\, retiring farmers\, land owners & service providers. \nJoin for a day of practical workshops to better understand the options\, resources\, and steps to accessing or transferring your farm or farmland. \n\nAre you a farmer wondering what will happen when you’re ready to stop farming?\nAre you a farmer looking for land?\nAre you a landowner thinking about making your property available for farming?\nAre you a service provider who helps with issues related to farmland access?\n\n  \nLearn strategies for keeping your farmland in production including how to tackle succession planning\, plus how to find and secure farmland of your own\, negotiate a good lease agreement\, and more.
URL:https://goodfoodcouncil.org/event/farmland-access-transfer-conference/
LOCATION:Augusta Civic Center\, 76 Community Dr\, Augusta\, ME\, 04330\, United States
CATEGORIES:Community Event
ATTACH;FMTTYPE=image/jpeg:https://goodfoodcouncil.org/wp-content/uploads/2018/09/MFT-conf.jpg
END:VEVENT
BEGIN:VEVENT
DTSTART;TZID=America/New_York:20181006T090000
DTEND;TZID=America/New_York:20181006T103000
DTSTAMP:20260420T204816
CREATED:20180920T214458Z
LAST-MODIFIED:20180921T012447Z
UID:2190-1538816400-1538821800@goodfoodcouncil.org
SUMMARY:Glean with Us!
DESCRIPTION:Come lend a hand\, help a farmer\, connect with community members\, and have some fun!  All are welcome to join us and the Androscoggin Gleaners as we harvest vegetables to reduce food waste and increase access to good food at Whiting Farm in Auburn!   This is a great activity for families\, work teams\, youth groups\, and any interested individual. \nWhat is gleaning?  Gleaning is the act of collecting leftover crops from a farmers’ fields after they have been commercially harvested or on fields where it is not economically profitable to harvest. Gleaning helps to save fruits and vegetables from becoming food waste\, and can help increase access to good food when gleaned produce is donated to a food pantry – which is what we will be doing with all our gleaned food!  Gleaners will often help with other farm tasks as requested to maintain the reciprocal relationship of generosity. Whiting Farm has a new program this year called ‘5 Fields for Families’ in which 5 acres of crops are all grown to be donated to food insecure families. \nOn October 6th\, please bring: \n\nLayered clothing and footwear appropriate for the weather\, and that which you don’t mind getting dirt/muddy\nWork gloves if you have them\nFull water bottle\n\nRSVP is requested\, but not required.  We hope you can join us! \n \nThe Androscoggin Gleaners are a local group of volunteers started in 2018 that on a regular basis during the harvest season coordinate with local farmers\, food pantries\, and volunteers like YOU to set up gleans in the local region. Want to learn more? Connect with the Androscoggin Gleaners on Facebook\, by email: androgleaners@gmail.com\, or by phone: 207-370-1061.
URL:https://goodfoodcouncil.org/event/glean-with-us/
LOCATION:Whiting Farm\, 876 Summer St\,\, Auburn\, ME\, 04212-3145\, United States
CATEGORIES:Community Event,GFCLA Event
ATTACH;FMTTYPE=image/png:https://goodfoodcouncil.org/wp-content/uploads/2018/09/Glean-with-us-web.png
GEO:44.121887;-70.255367
X-APPLE-STRUCTURED-LOCATION;VALUE=URI;X-ADDRESS=Whiting Farm 876 Summer St Auburn ME 04212-3145 United States;X-APPLE-RADIUS=500;X-TITLE=876 Summer St\,:geo:-70.255367,44.121887
END:VEVENT
BEGIN:VEVENT
DTSTART;TZID=America/New_York:20160606T100000
DTEND;TZID=America/New_York:20160606T130000
DTSTAMP:20260420T204816
CREATED:20160601T210244Z
LAST-MODIFIED:20160601T211345Z
UID:1680-1465207200-1465218000@goodfoodcouncil.org
SUMMARY:Lewiston Farmers' Market - Summer/Fall 2016
DESCRIPTION:EVERY SUNDAY 10AM-1PM from the end of May to mid-October\, 2016. (Hint: If it’s raining\, vendors often move into the parking garage on Lincoln & Main Streets)\n \nLive music\, fresh local produce\, homemade baked goods\, jams and jellys\, meats\, breads\, crafts and so much more… Credit\, Debit\, EBT (foodstamps)\, and WIC are always accepted! Fresh Food Champion and Market Rewards Program still going on! \nFollow the LFM on Facebook for frequent updates. \nPS – A great way to live the values of the #LAMaineFoodCharter is to become a regular patron of the LFM!
URL:https://goodfoodcouncil.org/event/lewiston-summer-farmers-market-2/2016-06-06/
LOCATION:Bates Mill 5\, Main St & Lincoln St\, Lewiston\, 04240\, United States
CATEGORIES:Community Event
GEO:44.0971441;-70.2210491
X-APPLE-STRUCTURED-LOCATION;VALUE=URI;X-ADDRESS=Bates Mill 5 Main St & Lincoln St Lewiston 04240 United States;X-APPLE-RADIUS=500;X-TITLE=Main St & Lincoln St:geo:-70.2210491,44.0971441
END:VEVENT
END:VCALENDAR