BEGIN:VCALENDAR
VERSION:2.0
PRODID:-//Good Food Council of Lewiston Auburn - ECPv6.15.20//NONSGML v1.0//EN
CALSCALE:GREGORIAN
METHOD:PUBLISH
X-ORIGINAL-URL:https://goodfoodcouncil.org
X-WR-CALDESC:Events for Good Food Council of Lewiston Auburn
REFRESH-INTERVAL;VALUE=DURATION:PT1H
X-Robots-Tag:noindex
X-PUBLISHED-TTL:PT1H
BEGIN:VTIMEZONE
TZID:America/New_York
BEGIN:DAYLIGHT
TZOFFSETFROM:-0500
TZOFFSETTO:-0400
TZNAME:EDT
DTSTART:20220313T070000
END:DAYLIGHT
BEGIN:STANDARD
TZOFFSETFROM:-0400
TZOFFSETTO:-0500
TZNAME:EST
DTSTART:20221106T060000
END:STANDARD
BEGIN:DAYLIGHT
TZOFFSETFROM:-0500
TZOFFSETTO:-0400
TZNAME:EDT
DTSTART:20230312T070000
END:DAYLIGHT
BEGIN:STANDARD
TZOFFSETFROM:-0400
TZOFFSETTO:-0500
TZNAME:EST
DTSTART:20231105T060000
END:STANDARD
BEGIN:DAYLIGHT
TZOFFSETFROM:-0500
TZOFFSETTO:-0400
TZNAME:EDT
DTSTART:20240310T070000
END:DAYLIGHT
BEGIN:STANDARD
TZOFFSETFROM:-0400
TZOFFSETTO:-0500
TZNAME:EST
DTSTART:20241103T060000
END:STANDARD
END:VTIMEZONE
BEGIN:VEVENT
DTSTART;TZID=America/New_York:20231025T160000
DTEND;TZID=America/New_York:20231025T190000
DTSTAMP:20260421T061753
CREATED:20230705T170438Z
LAST-MODIFIED:20231022T135120Z
UID:5035-1698249600-1698260400@goodfoodcouncil.org
SUMMARY:COMMUNITY WORKSHOP & CELEBRATION to update the Local Foods Action Plan for Lewiston & Auburn
DESCRIPTION:Update: We have seen an INCREDIBLE response in registrations to this event!   We are excited\, and are looking forward to a wonderful event.\n\n\n\nWe have needed to change our registration form into a WAIT LIST\, as we assess our capacity to add more people. If you have not yet registered but still interested to attend\, please register for the WAIT LIST\, and if we have availability for additional attendees\, we will contact you via Email and/or Phone to confirm your registration as soon as possible: http://tinyurl.com/localfoodplanLA\n\n\n\nThank you for understanding!\n\n____ \nWe are excited to have you join the Good Food Council of Lewiston-Auburn\, St. Mary’s Nutrition Center and local food system leaders for this much anticipated event. \nThis will be an opportunity to celebrate the successes of the initial Local Foods Local Places Action Plan developed in 2019\, and continue forward momentum through the creation of an updated action plan and an emerging LOCAL FOOD VISION for our region. \nIn keeping with the spirit of the original plan\, participants will work together to bring forth a series of Goals and Actions with diverse municipal\, organizational\, and business leadership commitments that will support economic opportunities for local food businesses and farms; improve access to good food and land to grow food for all communities and; help catalyze the food system and economy of Greater Lewiston Auburn. \nThe event is FREE to the community and will include dinner highlighting local ingredients and connecting activities.  Stipends for participation\, childcare\, and language interpretation are also available as needed.  \nAttendees to the event will include individuals from the agricultural\, food business\, municipal\, education\, public health\, non-profit\, and philanthropy sectors\, alongside interested Auburn and Lewiston eaters (ie. All are welcome!) \nWe hope you will join us for dinner\, celebration\, and collaboration for the future of our local food system and economy! \nFor more information or questions\, please contact Julia at goodfood4la@gmail.com or 207-464-4800. \nRegistration is FREE but requested by Wednesday\, October 18 to reserve your dinner and availability of some language interpretation services. \nBackground on the Local Foods Action Plan for Lewiston & Auburn: \n\nVisual Overview: 2020-2023 Local Foods Local Places Action Plan for LA\nOriginal Action Plan: 2020 Local Foods\, Local Places Action Plan for LA \nWebpage
URL:https://goodfoodcouncil.org/event/5035/
LOCATION:Hilton Garden Inn\, Auburn\, 14 Great Falls Plaza\, Auburn\, ME\, 04210\, United States
CATEGORIES:Community Event,GFCLA Event
ATTACH;FMTTYPE=image/png:https://goodfoodcouncil.org/wp-content/uploads/2023/07/waitlist-mailchimp.png
END:VEVENT
BEGIN:VEVENT
DTSTART;TZID=America/New_York:20230713T180000
DTEND;TZID=America/New_York:20230713T193000
DTSTAMP:20260421T061753
CREATED:20230705T174158Z
LAST-MODIFIED:20230706T174539Z
UID:5038-1689271200-1689276600@goodfoodcouncil.org
SUMMARY:Local Foods Action Plan 2.0 Visioning
DESCRIPTION:Please join us July 13 to share your vision for a resilient and thriving food system unique to greater Auburn and Lewiston\, as well as your ideas for which specific collaborative local food-related projects — including consideration of the objectives and strategies in the Auburn Comprehensive Plan’s new chapter\, “Promoting Food Access & Production & Growing the Agriculture Economy” — should be prioritized in the next 3-5 years to advance the local food system and economy!\n\n\nResident feedback will support the creation of an emerging Local Foods Action Plan UPDATE for Auburn & Lewiston that will culminate in a COMMUNITY WORKSHOP this October 25 in Auburn.\n\n\n\nFor this July 13 event\, Auburn residents are especially encouraged to attend\, though all are welcome!\n\n\n\nAny questions can be directed to Julia at 207-464-4800 or goodfood4la@gmail.com\n\n\n\nRSVP here: https://forms.gle/aWHQkLHgtBPyrhRd6
URL:https://goodfoodcouncil.org/event/local-foods-action-plan-2-0-visioning/
LOCATION:Auburn Senior Community Center\, 48 Pettengill Park\, Auburn\, ME\, 04212-3145\, United States
CATEGORIES:GFCLA Event
ATTACH;FMTTYPE=image/png:https://goodfoodcouncil.org/wp-content/uploads/2023/07/Local-Food-Action-Plan-2.0-Visioning-Graphic.png
END:VEVENT
END:VCALENDAR